BEGIN:VCALENDAR
VERSION:2.0
PRODID:-//Partners in Art - ECPv6.6.4.2//NONSGML v1.0//EN
CALSCALE:GREGORIAN
METHOD:PUBLISH
X-ORIGINAL-URL:https://partnersinart.ca
X-WR-CALDESC:Events for Partners in Art
REFRESH-INTERVAL;VALUE=DURATION:PT1H
X-Robots-Tag:noindex
X-PUBLISHED-TTL:PT1H
BEGIN:VTIMEZONE
TZID:America/Toronto
BEGIN:DAYLIGHT
TZOFFSETFROM:-0500
TZOFFSETTO:-0400
TZNAME:EDT
DTSTART:20170312T070000
END:DAYLIGHT
BEGIN:STANDARD
TZOFFSETFROM:-0400
TZOFFSETTO:-0500
TZNAME:EST
DTSTART:20171105T060000
END:STANDARD
END:VTIMEZONE
BEGIN:VEVENT
DTSTART;TZID=America/Toronto:20170914T094500
DTEND;TZID=America/Toronto:20170914T120000
DTSTAMP:20260424T084905
CREATED:20170623T222639Z
LAST-MODIFIED:20170623T222639Z
UID:2234-1505382300-1505390400@partnersinart.ca
SUMMARY:Management Committee Meeting
DESCRIPTION:
URL:https://partnersinart.ca/calendar/management-committee-meeting-21/
END:VEVENT
BEGIN:VEVENT
DTSTART;TZID=America/Toronto:20170914T173000
DTEND;TZID=America/Toronto:20170914T190000
DTSTAMP:20260424T084905
CREATED:20170611T015543Z
LAST-MODIFIED:20170611T015543Z
UID:2175-1505410200-1505415600@partnersinart.ca
SUMMARY:PIA “Season Starter”
DESCRIPTION:You and a guest are invited to PIA’s “Season Starter” at Gallery TPW  \nWine\, Nibbles\, Talk & Tour with US artist Cauleen Smith and Canadian artists Camille Turner and Jerome Havre \n\nPIA 2017/18 “Season Starter” \nThursday\, September 14th\, \n5:30-7:00pm \nat Gallery TPW \n\nPIA kicks of a great new year of Educations with a private gathering at Gallery TPW to meet and discuss with the artists the PIA Commission Project\, Triangle Trade. Created during a year of cross-border conversation and exchange\, Havre\, Smith\, and Turner have collaborated on a new short film that will premiere at TPW\, accompanied by a new installation by Smith. \nhttp://gallerytpw.ca/exhibitions/havre-smith-turner/ \n\nAlso note: Daniel Faria and Clint Roenisch Galleries will be hosting their season ‘openings’ same night so\, plan for an ‘art hop’ down the street! \n\nWhere:  Gallery TPW\, 170 St. Helens Ave http://gallerytpw.ca/ \nWhen:  Thursday\, Sept. 14th 5:30 -7:00 pm \nParking:  Street \nPlus one!
URL:https://partnersinart.ca/calendar/pia-season-starter/
LOCATION:Gallery TPW\, 170 St. Helens Ave\, Toronto 
END:VEVENT
END:VCALENDAR