BEGIN:VCALENDAR
VERSION:2.0
PRODID:-//Partners in Art - ECPv6.6.4.2//NONSGML v1.0//EN
CALSCALE:GREGORIAN
METHOD:PUBLISH
X-ORIGINAL-URL:https://partnersinart.ca
X-WR-CALDESC:Events for Partners in Art
REFRESH-INTERVAL;VALUE=DURATION:PT1H
X-Robots-Tag:noindex
X-PUBLISHED-TTL:PT1H
BEGIN:VTIMEZONE
TZID:America/Toronto
BEGIN:DAYLIGHT
TZOFFSETFROM:-0500
TZOFFSETTO:-0400
TZNAME:EDT
DTSTART:20180311T070000
END:DAYLIGHT
BEGIN:STANDARD
TZOFFSETFROM:-0400
TZOFFSETTO:-0500
TZNAME:EST
DTSTART:20181104T060000
END:STANDARD
END:VTIMEZONE
BEGIN:VEVENT
DTSTART;TZID=America/Toronto:20180920T093000
DTEND;TZID=America/Toronto:20180920T110000
DTSTAMP:20260419T100222
CREATED:20180529T005709Z
LAST-MODIFIED:20180529T005709Z
UID:2662-1537435800-1537441200@partnersinart.ca
SUMMARY:New Members Breakfast
DESCRIPTION:
URL:https://partnersinart.ca/calendar/new-members-breakfast-2/
LOCATION:Susan Caskey’s home\, 158 Dawlish Ave\, Toronto
END:VEVENT
BEGIN:VEVENT
DTSTART;TZID=America/Toronto:20180920T110000
DTEND;TZID=America/Toronto:20180920T130000
DTSTAMP:20260419T100222
CREATED:20180529T005959Z
LAST-MODIFIED:20180529T005959Z
UID:2664-1537441200-1537448400@partnersinart.ca
SUMMARY:Management Meeting
DESCRIPTION:
URL:https://partnersinart.ca/calendar/management-meeting/
LOCATION:Susan Caskey’s home\, 158 Dawlish Ave\, Toronto
END:VEVENT
END:VCALENDAR