BEGIN:VCALENDAR
VERSION:2.0
PRODID:-//Partners in Art - ECPv6.6.4.2//NONSGML v1.0//EN
CALSCALE:GREGORIAN
METHOD:PUBLISH
X-ORIGINAL-URL:https://partnersinart.ca
X-WR-CALDESC:Events for Partners in Art
REFRESH-INTERVAL;VALUE=DURATION:PT1H
X-Robots-Tag:noindex
X-PUBLISHED-TTL:PT1H
BEGIN:VTIMEZONE
TZID:America/Toronto
BEGIN:DAYLIGHT
TZOFFSETFROM:-0500
TZOFFSETTO:-0400
TZNAME:EDT
DTSTART:20180311T070000
END:DAYLIGHT
BEGIN:STANDARD
TZOFFSETFROM:-0400
TZOFFSETTO:-0500
TZNAME:EST
DTSTART:20181104T060000
END:STANDARD
END:VTIMEZONE
BEGIN:VEVENT
DTSTART;TZID=America/Toronto:20181020T190000
DTEND;TZID=America/Toronto:20181020T210000
DTSTAMP:20260423T052531
CREATED:20181003T221613Z
LAST-MODIFIED:20181003T221613Z
UID:2858-1540062000-1540069200@partnersinart.ca
SUMMARY:Karla Black - at the Powerplant
DESCRIPTION:
URL:https://partnersinart.ca/calendar/karla-black-at-the-powerplant/
LOCATION:The Power Plant\, 231 Queens Quay W\, Toronto\, ON\, M5J2G8\, Canada
END:VEVENT
END:VCALENDAR